Workbook

Sheet Лист1
B6: ВОДОГОСПОДАРСЬКА ОБСТАНОВКА НА ВОДОСХОВИЩАХ
B7: У БАСЕЙНІ РІЧКИ РОСЬ
B8: станом на 20 жовтень 2026р.
C9: Проектні дані | F9: Фактичні дані | L9: Наповнення% | M9: Розрахункові екологічні витрати, м³/с | N9: Відхилення факт . рівня м +/- відносно
B10: Водосховища | C10: Площа | D10: НПР, | E10: Повний обєм млн м3 | F10: Встанов- | G10: Факт. | H10: Вільна | I10: Об'єм | J10: При- | K10: Скид м³/с
F11: лений | G11: рівень | H11: ємкість | J11: плив
F12: рівень,
C13: га | D13: м | F13: м | G13: м | H13: млн.м³ | I13: млн.м³ | J13: м³/с | N13: 46308
A14: 1 | B14: 2 | C14: 3 | D14: 4 | E14: 5 | F14: 6 | G14: 7 | H14: 8 | I14: 9 | J14: 10 | K14: 11 | L14: 12 | M14: 13 | N14: 14
B15: р.Рось
A16: 1 | B16: Косівське | C16: 315.794 | D16: 177 | E16: 8.24 | F16: 175.9 | G16: 176.27 | H16: =(D16-G16)*10000*C16/1000000 -> 2.3052962 | I16: =E16-H16 -> 5.9347038 | J16: 0.35 | K16: =J16 -> 0.35 | L16: =I16*100/E16 -> 72.023104 | M16: 0.35 | N16: 0.1
A17: 2 | B17: Володарське | C17: 120 | D17: 167.5 | E17: 3.44 | F17: 167.5 | G17: 167.5 | H17: =(D17-G17)*10000*C17/1000000 -> 0 | I17: =E17-H17 -> 3.44 | J17: 0.83 | K17: =J17 -> 0.83 | L17: =I17*100/E17 -> 100 | M17: 0.8 | N17: 0.03
A18: 3 | B18: Щербаківське | C18: 220 | D18: 164 | E18: 1.5 | F18: =D18 -> 164 | G18: 163.82 | H18: =(D18-G18)*10000*C18/1000000 -> 0.396 | I18: =E18-H18 -> 1.104 | J18: 1 | K18: =J18 -> 1 | L18: =I18*100/E18 -> 73.6 | M18: 0.95 | N18: 0.02
A19: 4 | B19: Верхнє білоцерківське | C19: 538.42 | D19: 157.5 | E19: 16.96 | F19: 157 | G19: 157.11 | H19: =(D19-G19)*10000*C19/1000000 -> 2.099838 | I19: =E19-H19 -> 14.860162 | J19: 1.5 | K19: =J19 -> 1.5 | L19: =I19*100/E19 -> 87.61888 | M19: 1.5 | N19: 0.04
A20: 5 | B20: Білоцерківське середнє | C20: 165 | D20: 144.4 | E20: 2.42 | F20: 144.4 | G20: 144.4 | H20: =(D20-G20)*10000*C20/1000000 -> 0 | I20: =E20-H20 -> 2.42 | J20: 1.5 | K20: =J20 -> 1.5 | L20: =I20*100/E20 -> 100 | M20: 1.7 | N20: 0.04
A21: 6 | B21: Білоцерківське нижнє | C21: 71 | D21: 142.75 | E21: 1.56 | F21: 142.25 | G21: 142.75 | H21: =(D21-G21)*10000*C21/1000000 -> 0 | I21: =E21-H21 -> 1.56 | J21: 1.5 | K21: =J21 -> 1.5 | L21: =I21*100/E21 -> 100 | M21: 1.8 | N21: 0.02
A22: 7 | B22: Дибинецьке | C22: 327 | D22: 131.6 | E22: 3.27 | F22: 130.7 | G22: 131.45 | H22: =(D22-G22)*10000*C22/1000000 -> 0.4905 | I22: =E22-H22 -> 2.7795 | J22: 3.03 | K22: =J22 -> 3.03 | L22: =I22*100/E22 -> 85 | M22: 2.25 | N22: -0.05
A23: 8 | B23: Богуславське | C23: 70 | D23: 127.4 | E23: 1.75 | F23: 127.4 | G23: 127.3 | H23: =(D23-G23)*10000*C23/1000000 -> 0.07 | I23: =E23-H23 -> 1.68 | J23: 2.73 | K23: =J23 -> 2.73 | L23: =I23*100/E23 -> 96 | M23: 2.3 | N23: 0
A24: 9 | B24: Стеблівське | C24: 638 | D24: 113.9 | E24: 15.7 | F24: 113 | G24: 113.28 | H24: =(D24-G24)*10000*C24/1000000 -> 3.9556 | I24: =E24-H24 -> 11.7444 | J24: 2 | K24: =J24 -> 2 | L24: =I24*100/E24 -> 74.805096 | M24: 2.45 | N24: 0.22
A25: 10 | B25: Корсунь-Шевченківське | C25: 170 | D25: 99.81 | E25: 3.75 | F25: 99.81 | G25: 99.63 | H25: =(D25-G25)*10000*C25/1000000 -> 0.306 | I25: =E25-H25 -> 3.444 | J25: 1.9 | K25: =J25 -> 1.9 | L25: =I25*100/E25 -> 91.84 | M25: 2.5 | N25: -0.06
B26: разом | C26: =SUM(C16:C25) -> 2635.214 | E26: =SUM(E16:E25) -> 58.59 | H26: =SUM(H16:H25) -> 9.6232342 | I26: =SUM(I16:I25) -> 48.966766 | L26: =I26*100/E26 -> 83.575296
B27: р.Роська
A28: 11 | B28: Новоживотівське | C28: 137 | D28: 192.9 | E28: 1.818 | F28: =D28 -> 192.9 | G28: 191.7 | H28: =E28-I28 -> 1.338 | I28: 0.48 | J28: 0.15 | K28: =J28 -> 0.15 | L28: =I28*100/E28 -> 26.40264 | M28: 0.15 | N28: -0.2
A29: 12 | B29: Осичнянське | C29: 88 | D29: 203 | E29: 1.3 | F29: =D29 -> 203 | G29: 202.6 | H29: =E29-I29 -> 0.25 | I29: 1.05 | J29: 0.01 | K29: =J29 -> 0.01 | L29: =I29*100/E29 -> 80.769231 | M29: 0.02 | N29: 0
A30: 13 | B30: Тетіївське №1 | C30: 234 | D30: 182.5 | E30: 3.93 | F30: =D30 -> 182.5 | G30: 182.52 | H30: =(D30-G30)*10000*C30/1000000 -> -0.0468 | I30: =E30-H30 -> 3.9768 | J30: 0.15 | K30: =J30 -> 0.15 | L30: =I30*100/E30 -> 101.19084 | M30: 0.21 | N30: 0.01
A31: 14 | B31: Тетіївське №2 | C31: 65 | D31: 192.5 | E31: 1.07 | F31: =D31 -> 192.5 | G31: 190.2 | H31: =(D31-G31)*10000*C31/1000000 -> 1.495 | I31: =E31-H31 -> -0.425 | J31: 0.04 | K31: =J31 -> 0.04 | L31: =I31*100/E31 -> -39.719626 | M31: 0.01 | N31: -1.8
A32: 15 | B32: Тетіївське №3 | C32: 97 | D32: 179.1 | E32: 1.75 | F32: =D32 -> 179.1 | G32: 179.18 | H32: =(D32-G32)*10000*C32/1000000 -> -0.0776 | I32: =E32-H32 -> 1.8276 | J32: 0.26 | K32: =J32 -> 0.26 | L32: =I32*100/E32 -> 104.43429 | M32: 0.22 | N32: 0.03
A33: 16 | B33: Скибинецьке | C33: 95 | D33: 174.03 | E33: 1.03 | F33: =D33 -> 174.03 | G33: 174.13 | H33: =(D33-G33)*10000*C33/1000000 -> -0.095 | I33: =E33-H33 -> 1.125 | J33: 0.27 | K33: =J33 -> 0.27 | L33: =I33*100/E33 -> 109.2233 | M33: 0.26 | N33: 0.05
B34: разом | C34: =SUM(C28:C33) -> 716 | E34: =SUM(E28:E33) -> 10.898 | H34: =SUM(H28:H33) -> 2.8636 | I34: =SUM(I28:I33) -> 8.0344 | L34: =I34*100/E34 -> 73.723619
B35: р.Молочна
A36: 17 | B36: П'ятигірське | C36: 57 | D36: 189.5 | E36: 1.19 | F36: =D36 -> 189.5 | G36: 189.52 | H36: =(D36-G36)*10000*C36/1000000 -> -0.0114 | I36: =E36-H36 -> 1.2014 | J36: 0.05 | K36: =J36 -> 0.05 | L36: =I36*100/E36 -> 100.95798 | M36: 0.05 | N36: 0.02
A37: 18 | B37: Галайківське | C37: 104 | D37: 185.5 | E37: 1.83 | F37: =D37 -> 185.5 | G37: 185.53 | H37: =(D37-G37)*10000*C37/1000000 -> -0.0312 | I37: =E37-H37 -> 1.8612 | J37: 0.06 | K37: =J37 -> 0.06 | L37: =I37*100/E37 -> 101.70492 | M37: 0.06 | N37: 0.03
A38: 19 | B38: Лобачівське | C38: 64 | D38: 180.6 | E38: 1.02 | F38: =D38 -> 180.6 | G38: 180.55 | H38: =(D38-G38)*10000*C38/1000000 -> 0.032 | I38: =E38-H38 -> 0.988 | J38: 0.04 | K38: =J38 -> 0.04 | L38: =I38*100/E38 -> 96.862745 | M38: 0.06 | N38: 0.03
B39: разом | C39: =SUM(C36:C38) -> 225 | E39: =SUM(E36:E38) -> 4.04 | H39: =SUM(H36:H38) -> -0.0106 | I39: =SUM(I36:I38) -> 4.0506 | L39: =I39*100/E39 -> 100.26238
B40: р.Сквирка
A41: 20 | B41: Кам'яногребельське | C41: 66.7 | D41: 182.5 | E41: 1.08 | F41: =D41 -> 182.5 | G41: 182 | H41: =(D41-G41)*10000*C41/1000000 -> 0.3335 | I41: =E41-H41 -> 0.7465 | J41: 0.1 | K41: =J41 -> 0.1 | L41: =I41*100/E41 -> 69.12037 | M41: 0.04 | N41: -0.1
A42: 21 | B42: Пустоварівське верхнє | C42: 62.8 | D42: 177 | E42: 1.41 | F42: =D42 -> 177 | G42: 176 | H42: =(D42-G42)*10000*C42/1000000 -> 0.628 | I42: =E42-H42 -> 0.782 | J42: 0.1 | K42: =J42 -> 0.1 | L42: =I42*100/E42 -> 55.460993 | M42: 0.05 | N42: -0.1
A43: 22 | B43: Пустоварівське нижнє | C43: 56 | D43: 175.25 | E43: 1.17 | F43: =D43 -> 175.25 | G43: 174.6 | H43: =(D43-G43)*10000*C43/1000000 -> 0.364 | I43: =E43-H43 -> 0.806 | J43: 0.2 | K43: =J43 -> 0.2 | L43: =I43*100/E43 -> 68.888889 | M43: 0.06 | N43: 0
B44: разом | C44: =SUM(C41:C43) -> 185.5 | E44: =SUM(E41:E43) -> 3.66 | H44: =SUM(H41:H43) -> 1.3255 | I44: =SUM(I41:I43) -> 2.3345 | L44: =I44*100/E44 -> 63.784153
B45: р.Роставиця
...

Sheet повна
B5: ВОДОГОСПОДАРСЬКА ОБСТАНОВКА НА ВОДОСХОВИЩАХ
B6: У БАСЕЙНІ РІЧКИ РОСЬ ПОВНА
B7: =Лист1!B8 -> станом на 20 жовтень 2026р.
C8: Проектні дані | F8: Фактичні дані | L8: Наповнення% | M8: Розрахункові екологічні витрати, м³/с | N8: Відхилення факт . рівня м +/- відносно | O8: Відхилення факт . рівня м від НПР
B9: Водосховища | C9: Площа | D9: НПР, | E9: Повний | F9: Встанов- | G9: Факт. | H9: Вільна | I9: Об'єм | J9: При- | K9: Скид м³/с
E10: об'єм, | F10: лений | G10: рівень, | H10: ємкість, | J10: плив
F11: рівень,
C12: га | D12: м | E12: млн.м³ | F12: м | G12: м | H12: млн.м³ | I12: млн.м³ | J12: м³/с | N12: =Лист1!N13 -> 46308
A13: 1 | B13: 2 | C13: 3 | D13: 4 | E13: 5 | F13: 6 | G13: 7 | H13: 8 | I13: 9 | J13: 10 | K13: 11 | L13: 12 | M13: 13 | N13: 14
B14: р.Рось
A15: 1 | B15: Косівське | C15: 315.794 | D15: 177 | E15: 8.24 | F15: =Лист1!F16 -> 175.9 | G15: =Лист1!G16 -> 176.27 | H15: =Лист1!H16 -> 2.3052962 | I15: =E15-H15 -> 5.9347038 | J15: =Лист1!J16 -> 0.35 | K15: =J15 -> 0.35 | L15: =I15*100/E15 -> 72.023104 | M15: 0.35 | N15: =Лист1!N16 -> 0.1 | O15: =G15-D15 -> -0.73
A16: 2 | B16: Володарське | C16: 120 | D16: 167.5 | E16: 3.44 | F16: =D16 -> 167.5 | G16: =Лист1!G17 -> 167.5 | H16: 0 | I16: =E16-H16 -> 3.44 | J16: =Лист1!J17 -> 0.83 | K16: =J16 -> 0.83 | L16: =I16*100/E16 -> 100 | M16: 0.8 | N16: =Лист1!N17 -> 0.03 | O16: =G16-D16 -> 0
A17: 3 | B17: Щербаківське | C17: 220 | D17: 164 | E17: 1.5 | F17: =D17 -> 164 | G17: =Лист1!G18 -> 163.82 | H17: =Лист1!H18 -> 0.396 | I17: =E17-H17 -> 1.104 | J17: =Лист1!J18 -> 1 | K17: =J17 -> 1 | L17: =I17*100/E17 -> 73.6 | M17: 0.95 | N17: =Лист1!N18 -> 0.02 | O17: =G17-D17 -> -0.18
A18: 4 | B18: Верхнє білоцерківське | C18: 538.42 | D18: 157.5 | E18: 16.96 | F18: =D18 -> 157.5 | G18: =Лист1!G19 -> 157.11 | H18: =Лист1!H19 -> 2.099838 | I18: =E18-H18 -> 14.860162 | J18: =Лист1!J19 -> 1.5 | K18: =J18 -> 1.5 | L18: =I18*100/E18 -> 87.61888 | M18: 1.5 | N18: =Лист1!N19 -> 0.04 | O18: =G18-D18 -> -0.39
A19: 5 | B19: Білоцерківське середнє | C19: 165 | D19: 144.4 | E19: 2.42 | F19: =D19 -> 144.4 | G19: =Лист1!G20 -> 144.4 | H19: =Лист1!H20 -> 0 | I19: =E19-H19 -> 2.42 | J19: =Лист1!J20 -> 1.5 | K19: =J19 -> 1.5 | L19: =I19*100/E19 -> 100 | M19: 1.7 | N19: =Лист1!N20 -> 0.04 | O19: =G19-D19 -> 0
A20: 6 | B20: Білоцерківське нижнє | C20: 71 | D20: 142.75 | E20: 1.56 | F20: =D20 -> 142.75 | G20: =Лист1!G21 -> 142.75 | H20: =Лист1!H21 -> 0 | I20: =E20-H20 -> 1.56 | J20: =Лист1!J21 -> 1.5 | K20: =J20 -> 1.5 | L20: =I20*100/E20 -> 100 | M20: 1.8 | N20: =Лист1!N21 -> 0.02 | O20: =G20-D20 -> 0
A21: 7 | B21: Дибинецьке | C21: 327 | D21: 131.6 | E21: 3.27 | F21: =Лист1!F22 -> 130.7 | G21: =Лист1!G22 -> 131.45 | H21: =Лист1!H22 -> 0.4905 | I21: =E21-H21 -> 2.7795 | J21: =Лист1!J22 -> 3.03 | K21: =J21 -> 3.03 | L21: =I21*100/E21 -> 85 | M21: 2.25 | N21: =Лист1!N22 -> -0.05 | O21: =G21-D21 -> -0.15
A22: 8 | B22: Богуславське | C22: 70 | D22: 127.4 | E22: 1.75 | F22: =D22 -> 127.4 | G22: =Лист1!G23 -> 127.3 | H22: =Лист1!H23 -> 0.07 | I22: =E22-H22 -> 1.68 | J22: =Лист1!J23 -> 2.73 | K22: =J22 -> 2.73 | L22: =I22*100/E22 -> 96 | M22: 2.3 | N22: =Лист1!N23 -> 0 | O22: =G22-D22 -> -0.1
A23: 9 | B23: Стеблівське | C23: 638 | D23: 113.9 | E23: 15.7 | F23: =Лист1!F24 -> 113 | G23: =Лист1!G24 -> 113.28 | H23: =Лист1!H24 -> 3.9556 | I23: =E23-H23 -> 11.7444 | J23: =Лист1!J24 -> 2 | K23: =J23 -> 2 | L23: =I23*100/E23 -> 74.805096 | M23: 2.45 | N23: =Лист1!N24 -> 0.22 | O23: =G23-D23 -> -0.62
A24: 10 | B24: Корсунь-Шевченківське | C24: 170 | D24: 99.81 | E24: 3.75 | F24: =D24 -> 99.81 | G24: =Лист1!G25 -> 99.63 | H24: =Лист1!H25 -> 0.306 | I24: =E24-H24 -> 3.444 | J24: =Лист1!J25 -> 1.9 | K24: =J24 -> 1.9 | L24: =I24*100/E24 -> 91.84 | M24: 2.5 | N24: =Лист1!N25 -> -0.06 | O24: =G24-D24 -> -0.18
B25: разом | C25: =SUM(C15:C24) -> 2635.214 | E25: =SUM(E15:E24) -> 58.59 | H25: =SUM(H15:H24) -> 9.6232342 | I25: =SUM(I15:I24) -> 48.966766 | L25: =I25*100/E25 -> 83.575296 | O25: =I25+H25-E25 -> 0 | AG25: =I25+H25-E25 -> 0
B26: р.Роська
A27: 11 | B27: Новоживотівське | C27: 137 | D27: 192.9 | E27: 1.404 | F27: =D27 -> 192.9 | G27: =Лист1!G28 -> 191.7 | H27: =Лист1!H28 -> 1.338 | I27: =E27-H27 -> 0.066 | J27: =Лист1!J28 -> 0.15 | K27: =J27 -> 0.15 | L27: =I27*100/E27 -> 4.7008547 | M27: 0.15 | N27: =Лист1!N28 -> -0.2 | O27: =G27-D27 -> -1.2
A28: 12 | B28: Осичнянське | C28: 88 | D28: 203 | E28: 1.3 | F28: =D28 -> 203 | G28: =Лист1!G29 -> 202.6 | H28: =Лист1!H29 -> 0.25 | I28: =E28-H28 -> 1.05 | J28: =Лист1!J29 -> 0.01 | K28: =J28 -> 0.01 | L28: =I28*100/E28 -> 80.769231 | M28: 0.02 | N28: =Лист1!N29 -> 0 | O28: =G28-D28 -> -0.4
A29: 13 | B29: Тетіївське №1 | C29: 234 | D29: 182.5 | E29: 3.93 | F29: =D29 -> 182.5 | G29: =Лист1!G30 -> 182.52 | H29: =Лист1!H30 -> -0.0468 | I29: =E29-H29 -> 3.9768 | J29: =Лист1!J30 -> 0.15 | K29: =J29 -> 0.15 | L29: =I29*100/E29 -> 101.19084 | M29: 0.21 | N29: =Лист1!N30 -> 0.01 | O29: =G29-D29 -> 0.02
A30: 14 | B30: Тетіївське №2 | C30: 65 | D30: 192.5 | E30: 1.07 | F30: =D30 -> 192.5 | G30: =Лист1!G31 -> 190.2 | H30: =Лист1!H31 -> 1.495 | I30: =E30-H30 -> -0.425 | J30: =Лист1!J31 -> 0.04 | K30: =J30 -> 0.04 | L30: =I30*100/E30 -> -39.719626 | M30: 0.01 | N30: =Лист1!N31 -> -1.8 | O30: =G30-D30 -> -2.3
A31: 15 | B31: Тетіївське №3 | C31: 97 | D31: 179.1 | E31: 1.75 | F31: =D31 -> 179.1 | G31: =Лист1!G32 -> 179.18 | H31: 0 | I31: =E31-H31 -> 1.75 | J31: =Лист1!J32 -> 0.26 | K31: =J31 -> 0.26 | L31: =I31*100/E31 -> 100 | M31: 0.22 | N31: =Лист1!N32 -> 0.03 | O31: =G31-D31 -> 0.08
A32: 16 | B32: Скибинецьке | C32: 95 | D32: 174.03 | E32: 1.03 | F32: =D32 -> 174.03 | G32: =Лист1!G33 -> 174.13 | H32: 0 | I32: =E32-H32 -> 1.03 | J32: =Лист1!J33 -> 0.27 | K32: =J32 -> 0.27 | L32: =I32*100/E32 -> 100 | M32: 0.26 | N32: =Лист1!N33 -> 0.05 | O32: =G32-D32 -> 0.1
B33: разом | C33: =SUM(C27:C32) -> 716 | E33: =E27+E28+E29+E30+E31+E32 -> 10.484 | H33: =H27+H28+H29+H30+H31+H32 -> 3.0362 | I33: =I27+I28+I29+I30+I31+I32 -> 7.4478 | L33: =I33*100/E33 -> 71.03968 | O33: =I33+H33-E33 -> 0 | AG33: =I33+H33-E33 -> 0
B34: р.Молочна
A35: 17 | B35: П'ятигірське | C35: 57 | D35: 189.5 | E35: 1.19 | F35: =D35 -> 189.5 | G35: =Лист1!G36 -> 189.52 | H35: =Лист1!H36 -> -0.0114 | I35: =E35-H35 -> 1.2014 | J35: =Лист1!J36 -> 0.05 | K35: =J35 -> 0.05 | L35: =I35*100/E35 -> 100.95798 | M35: 0.05 | N35: =Лист1!N36 -> 0.02 | O35: =G35-D35 -> 0.02
A36: 18 | B36: Галайківське | C36: 104 | D36: 185.5 | E36: 1.83 | F36: =D36 -> 185.5 | G36: =Лист1!G37 -> 185.53 | H36: =Лист1!H37 -> -0.0312 | I36: =E36-H36 -> 1.8612 | J36: =Лист1!J37 -> 0.06 | K36: =J36 -> 0.06 | L36: =I36*100/E36 -> 101.70492 | M36: 0.06 | N36: =Лист1!N37 -> 0.03 | O36: =G36-D36 -> 0.03
A37: 19 | B37: Лобачівське | C37: 64 | D37: 180.6 | E37: 1.02 | F37: =D37 -> 180.6 | G37: =Лист1!G38 -> 180.55 | H37: =Лист1!H38 -> 0.032 | I37: =E37-H37 -> 0.988 | J37: =Лист1!J38 -> 0.04 | K37: =J37 -> 0.04 | L37: =I37*100/E37 -> 96.862745 | M37: 0.06 | N37: =Лист1!N38 -> 0.03 | O37: =G37-D37 -> -0.05
B38: разом | C38: =SUM(C35:C37) -> 225 | E38: =SUM(E35:E37) -> 4.04 | H38: =SUM(H35:H37) -> -0.0106 | I38: =SUM(I35:I37) -> 4.0506 | L38: =I38*100/E38 -> 100.26238 | O38: =I38+H38-E38 -> 0 | AG38: =I38+H38-E38 -> 0
B39: р.Сквирка
A40: 20 | B40: Кам'яногребельське | C40: 66.7 | D40: 182.5 | E40: 1.08 | F40: =D40 -> 182.5 | G40: =Лист1!G41 -> 182 | H40: =Лист1!H41 -> 0.3335 | I40: =E40-H40 -> 0.7465 | J40: =Лист1!J41 -> 0.1 | K40: =J40 -> 0.1 | L40: =I40*100/E40 -> 69.12037 | M40: 0.04 | N40: =Лист1!N41 -> -0.1 | O40: =G40-D40 -> -0.5
A41: 21 | B41: Пустоварівське верхнє | C41: 62.8 | D41: 177 | E41: 1.41 | F41: =D41 -> 177 | G41: =Лист1!G42 -> 176 | H41: =Лист1!H42 -> 0.628 | I41: =E41-H41 -> 0.782 | J41: =Лист1!J42 -> 0.1 | K41: =J41 -> 0.1 | L41: =I41*100/E41 -> 55.460993 | M41: 0.05 | N41: =Лист1!N42 -> -0.1 | O41: =G41-D41 -> -1
A42: 22 | B42: Пустоварівське нижнє | C42: 56 | D42: 175.25 | E42: 1.17 | F42: =D42 -> 175.25 | G42: =Лист1!G43 -> 174.6 | H42: =Лист1!H43 -> 0.364 | I42: =E42-H42 -> 0.806 | J42: =Лист1!J43 -> 0.2 | K42: =J42 -> 0.2 | L42: =I42*100/E42 -> 68.888889 | M42: 0.06 | N42: =Лист1!N43 -> 0 | O42: =G42-D42 -> -0.65
B43: разом | C43: =SUM(C40:C42) -> 185.5 | E43: =SUM(E40:E42) -> 3.66 | H43: =SUM(H40:H42) -> 1.3255 | I43: =SUM(I40:I42) -> 2.3345 | L43: =I43*100/E43 -> 63.784153 | AG43: =I43+H43-E43 -> 0
B44: р.Роставиця
...

Sheet Лист2
