Workbook

Sheet Лист1
B6: ВОДОГОСПОДАРСЬКА ОБСТАНОВКА НА ВОДОСХОВИЩАХ
B7: У БАСЕЙНІ РІЧКИ РОСЬ
B8: станом на 20 жовтень 2026р.
C9: Проектні дані | F9: Фактичні дані | L9: Наповнення% | M9: Розрахункові екологічні витрати, м³/с | N9: Відхилення факт . рівня м +/- відносно
B10: Водосховища | C10: Площа | D10: НПР, | E10: Повний обєм млн м3 | F10: Встанов- | G10: Факт. | H10: Вільна | I10: Об'єм | J10: При- | K10: Скид м³/с
F11: лений | G11: рівень | H11: ємкість | J11: плив
F12: рівень,
C13: га | D13: м | F13: м | G13: м | H13: млн.м³ | I13: млн.м³ | J13: м³/с | N13: 46308
A14: 1 | B14: 2 | C14: 3 | D14: 4 | E14: 5 | F14: 6 | G14: 7 | H14: 8 | I14: 9 | J14: 10 | K14: 11 | L14: 12 | M14: 13 | N14: 14
B15: р.Рось
A16: 1 | B16: Косівське | C16: 315.794 | D16: 177 | E16: 8.24 | F16: 175.9 | G16: 176.27 | H16: =(D16-G16)*10000*C16/1000000 -> 2.3052962 | I16: =E16-H16 -> 5.9347038 | J16: 0.35 | K16: =J16 -> 0.35 | L16: =I16*100/E16 -> 72.023104 | M16: 0.35 | N16: 0.1
A17: 2 | B17: Володарське | C17: 120 | D17: 167.5 | E17: 3.44 | F17: 167.5 | G17: 167.5 | H17: =(D17-G17)*10000*C17/1000000 -> 0 | I17: =E17-H17 -> 3.44 | J17: 0.83 | K17: =J17 -> 0.83 | L17: =I17*100/E17 -> 100 | M17: 0.8 | N17: 0.03
A18: 3 | B18: Щербаківське | C18: 220 | D18: 164 | E18: 1.5 | F18: =D18 -> 164 | G18: 163.82 | H18: =(D18-G18)*10000*C18/1000000 -> 0.396 | I18: =E18-H18 -> 1.104 | J18: 1 | K18: =J18 -> 1 | L18: =I18*100/E18 -> 73.6 | M18: 0.95 | N18: 0.02
A19: 4 | B19: Верхнє білоцерківське | C19: 538.42 | D19: 157.5 | E19: 16.96 | F19: 157 | G19: 157.11 | H19: =(D19-G19)*10000*C19/1000000 -> 2.099838 | I19: =E19-H19 -> 14.860162 | J19: 1.5 | K19: =J19 -> 1.5 | L19: =I19*100/E19 -> 87.61888 | M19: 1.5 | N19: 0.04
A20: 5 | B20: Білоцерківське середнє | C20: 165 | D20: 144.4 | E20: 2.42 | F20: 144.4 | G20: 144.4 | H20: =(D20-G20)*10000*C20/1000000 -> 0 | I20: =E20-H20 -> 2.42 | J20: 1.5 | K20: =J20 -> 1.5 | L20: =I20*100/E20 -> 100 | M20: 1.7 | N20: 0.04
A21: 6 | B21: Білоцерківське нижнє | C21: 71 | D21: 142.75 | E21: 1.56 | F21: 142.25 | G21: 142.75 | H21: =(D21-G21)*10000*C21/1000000 -> 0 | I21: =E21-H21 -> 1.56 | J21: 1.5 | K21: =J21 -> 1.5 | L21: =I21*100/E21 -> 100 | M21: 1.8 | N21: 0.02
A22: 7 | B22: Дибинецьке | C22: 327 | D22: 131.6 | E22: 3.27 | F22: 130.7 | G22: 131.45 | H22: =(D22-G22)*10000*C22/1000000 -> 0.4905 | I22: =E22-H22 -> 2.7795 | J22: 3.03 | K22: =J22 -> 3.03 | L22: =I22*100/E22 -> 85 | M22: 2.25 | N22: -0.05
A23: 8 | B23: Богуславське | C23: 70 | D23: 127.4 | E23: 1.75 | F23: 127.4 | G23: 127.3 | H23: =(D23-G23)*10000*C23/1000000 -> 0.07 | I23: =E23-H23 -> 1.68 | J23: 2.73 | K23: =J23 -> 2.73 | L23: =I23*100/E23 -> 96 | M23: 2.3 | N23: 0
A24: 9 | B24: Стеблівське | C24: 638 | D24: 113.9 | E24: 15.7 | F24: 113 | G24: 113.28 | H24: =(D24-G24)*10000*C24/1000000 -> 3.9556 | I24: =E24-H24 -> 11.7444 | J24: 2 | K24: =J24 -> 2 | L24: =I24*100/E24 -> 74.805096 | M24: 2.45 | N24: 0.22
A25: 10 | B25: Корсунь-Шевченківське | C25: 170 | D25: 99.81 | E25: 3.75 | F25: 99.81 | G25: 99.63 | H25: =(D25-G25)*10000*C25/1000000 -> 0.306 | I25: =E25-H25 -> 3.444 | J25: 1.9 | K25: =J25 -> 1.9 | L25: =I25*100/E25 -> 91.84 | M25: 2.5 | N25: -0.06
B26: разом | C26: =SUM(C16:C25) -> 2635.214 | E26: =SUM(E16:E25) -> 58.59 | H26: =SUM(H16:H25) -> 9.6232342 | I26: =SUM(I16:I25) -> 48.966766 | L26: =I26*100/E26 -> 83.575296
B27: р.Роська
A28: 11 | B28: Новоживотівське | C28: 137 | D28: 192.9 | E28: 1.818 | F28: =D28 -> 192.9 | G28: 191.7 | H28: =E28-I28 -> 1.338 | I28: 0.48 | J28: 0.15 | K28: =J28 -> 0.15 | L28: =I28*100/E28 -> 26.40264 | M28: 0.15 | N28: -0.2
A29: 12 | B29: Осичнянське | C29: 88 | D29: 203 | E29: 1.3 | F29: =D29 -> 203 | G29: 202.6 | H29: =E29-I29 -> 0.25 | I29: 1.05 | J29: 0.01 | K29: =J29 -> 0.01 | L29: =I29*100/E29 -> 80.769231 | M29: 0.02 | N29: 0
A30: 13 | B30: Тетіївське №1 | C30: 234 | D30: 182.5 | E30: 3.93 | F30: =D30 -> 182.5 | G30: 182.52 | H30: =(D30-G30)*10000*C30/1000000 -> -0.0468 | I30: =E30-H30 -> 3.9768 | J30: 0.15 | K30: =J30 -> 0.15 | L30: =I30*100/E30 -> 101.19084 | M30: 0.21 | N30: 0.01
A31: 14 | B31: Тетіївське №2 | C31: 65 | D31: 192.5 | E31: 1.07 | F31: =D31 -> 192.5 | G31: 190.2 | H31: =(D31-G31)*10000*C31/1000000 -> 1.495 | I31: =E31-H31 -> -0.425 | J31: 0.04 | K31: =J31 -> 0.04 | L31: =I31*100/E31 -> -39.719626 | M31: 0.01 | N31: -1.8
A32: 15 | B32: Тетіївське №3 | C32: 97 | D32: 179.1 | E32: 1.75 | F32: =D32 -> 179.1 | G32: 179.18 | H32: =(D32-G32)*10000*C32/1000000 -> -0.0776 | I32: =E32-H32 -> 1.8276 | J32: 0.26 | K32: =J32 -> 0.26 | L32: =I32*100/E32 -> 104.43429 | M32: 0.22 | N32: 0.03
A33: 16 | B33: Скибинецьке | C33: 95 | D33: 174.03 | E33: 1.03 | F33: =D33 -> 174.03 | G33: 174.13 | H33: =(D33-G33)*10000*C33/1000000 -> -0.095 | I33: =E33-H33 -> 1.125 | J33: 0.27 | K33: =J33 -> 0.27 | L33: =I33*100/E33 -> 109.2233 | M33: 0.26 | N33: 0.05
B34: разом | C34: =SUM(C28:C33) -> 716 | E34: =SUM(E28:E33) -> 10.898 | H34: =SUM(H28:H33) -> 2.8636 | I34: =SUM(I28:I33) -> 8.0344 | L34: =I34*100/E34 -> 73.723619
B35: р.Молочна
A36: 17 | B36: П'ятигірське | C36: 57 | D36: 189.5 | E36: 1.19 | F36: =D36 -> 189.5 | G36: 189.52 | H36: =(D36-G36)*10000*C36/1000000 -> -0.0114 | I36: =E36-H36 -> 1.2014 | J36: 0.05 | K36: =J36 -> 0.05 | L36: =I36*100/E36 -> 100.95798 | M36: 0.05 | N36: 0.02
A37: 18 | B37: Галайківське | C37: 104 | D37: 185.5 | E37: 1.83 | F37: =D37 -> 185.5 | G37: 185.53 | H37: =(D37-G37)*10000*C37/1000000 -> -0.0312 | I37: =E37-H37 -> 1.8612 | J37: 0.06 | K37: =J37 -> 0.06 | L37: =I37*100/E37 -> 101.70492 | M37: 0.06 | N37: 0.03
A38: 19 | B38: Лобачівське | C38: 64 | D38: 180.6 | E38: 1.02 | F38: =D38 -> 180.6 | G38: 180.55 | H38: =(D38-G38)*10000*C38/1000000 -> 0.032 | I38: =E38-H38 -> 0.988 | J38: 0.04 | K38: =J38 -> 0.04 | L38: =I38*100/E38 -> 96.862745 | M38: 0.06 | N38: 0.03
B39: разом | C39: =SUM(C36:C38) -> 225 | E39: =SUM(E36:E38) -> 4.04 | H39: =SUM(H36:H38) -> -0.0106 | I39: =SUM(I36:I38) -> 4.0506 | L39: =I39*100/E39 -> 100.26238
B40: р.Сквирка
A41: 20 | B41: Кам'яногребельське | C41: 66.7 | D41: 182.5 | E41: 1.08 | F41: =D41 -> 182.5 | G41: 182 | H41: =(D41-G41)*10000*C41/1000000 -> 0.3335 | I41: =E41-H41 -> 0.7465 | J41: 0.1 | K41: =J41 -> 0.1 | L41: =I41*100/E41 -> 69.12037 | M41: 0.04 | N41: -0.1
A42: 21 | B42: Пустоварівське верхнє | C42: 62.8 | D42: 177 | E42: 1.41 | F42: =D42 -> 177 | G42: 176 | H42: =(D42-G42)*10000*C42/1000000 -> 0.628 | I42: =E42-H42 -> 0.782 | J42: 0.1 | K42: =J42 -> 0.1 | L42: =I42*100/E42 -> 55.460993 | M42: 0.05 | N42: -0.1
A43: 22 | B43: Пустоварівське нижнє | C43: 56 | D43: 175.25 | E43: 1.17 | F43: =D43 -> 175.25 | G43: 174.6 | H43: =(D43-G43)*10000*C43/1000000 -> 0.364 | I43: =E43-H43 -> 0.806 | J43: 0.2 | K43: =J43 -> 0.2 | L43: =I43*100/E43 -> 68.888889 | M43: 0.06 | N43: 0
B44: разом | C44: =SUM(C41:C43) -> 185.5 | E44: =SUM(E41:E43) -> 3.66 | H44: =SUM(H41:H43) -> 1.3255 | I44: =SUM(I41:I43) -> 2.3345 | L44: =I44*100/E44 -> 63.784153
B45: р.Роставиця
A46: 23 | B46: Ружинське | C46: 184 | D46: 212.5 | E46: 2.47 | F46: =D46 -> 212.5 | G46: 212.4 | H46: =E46-I46 -> 0.15 | I46: 2.32 | J46: 0.15 | K46: =J46 -> 0.15 | L46: =I46*100/E46 -> 93.927126 | M46: 0.15 | N46: 0
A47: 24 | B47: Карабчієвське | C47: 53 | D47: 195.5 | E47: 0.61 | F47: =D47 -> 195.5 | G47: 193.8 | H47: =E47-I47 -> 0.45 | I47: 0.16 | J47: 0.15 | K47: =J47 -> 0.15 | L47: =I47*100/E47 -> 26.229508 | M47: 0.15 | N47: 0
A48: 25 | B48: Трубіївське | C48: 159 | D48: 191.7 | E48: 1.74 | F48: =D48 -> 191.7 | G48: 189.85 | H48: =E48-I48 -> 1.14 | I48: 0.6 | J48: 0.15 | K48: =J48 -> 0.15 | L48: =I48*100/E48 -> 34.482759 | M48: 0.15 | N48: -0.35
A49: 26 | B49: Паволочське | C49: 353 | D49: 189.5 | E49: 1.93 | F49: =D49 -> 189.5 | G49: 189.45 | H49: 0.1 | I49: =E49-H49 -> 1.83 | J49: 0.25 | K49: =J49 -> 0.25 | L49: =I49*100/E49 -> 94.818653 | M49: 0.25 | N49: 0
A50: 27 | B50: Голуб'ятинське | C50: 55.5 | D50: 186 | E50: 1.07 | F50: =D50 -> 186 | G50: 185.8 | H50: 0.08 | I50: =E50-H50 -> 0.99 | J50: 0.3 | K50: =J50 -> 0.3 | L50: =I50*100/E50 -> 92.523364 | M50: 0.3 | N50: -0.1
A51: 28 | B51: Строківське | C51: 90 | D51: 182.4 | E51: 1.47 | F51: =D51 -> 182.4 | G51: 182.26 | H51: 0.16 | I51: =E51-H51 -> 1.31 | J51: 0.3 | K51: =J51 -> 0.3 | L51: =I51*100/E51 -> 89.115646 | M51: 0.3 | N51: 0
A52: 29 | B52: Чубинське | C52: 58 | D52: 173 | E52: 1.13 | F52: =D52 -> 173 | G52: 173 | H52: =(D52-G52)*10000*C52/1000000 -> 0 | I52: =E52-H52 -> 1.13 | J52: 0.01 | K52: =J52 -> 0.01 | L52: =I52*100/E52 -> 100 | M52: 0.35 | N52: 0.02
A53: 30 | B53: Дулицьке | C53: 68 | D53: 169 | E53: 1.2 | F53: =D53 -> 169 | G53: 168.65 | H53: =(D53-G53)*10000*C53/1000000 -> 0.238 | I53: =E53-H53 -> 0.962 | J53: 0.01 | K53: =J53 -> 0.01 | L53: =I53*100/E53 -> 80.166667 | M53: 0.4 | N53: 0.35
A54: 31 | B54: Шамраївське | C54: 102 | D54: 163 | E54: 2.5 | F54: =D54 -> 163 | G54: 162.88 | H54: =(D54-G54)*10000*C54/1000000 -> 0.1224 | I54: =E54-H54 -> 2.3776 | J54: 0.01 | K54: =J54 -> 0.01 | L54: =I54*100/E54 -> 95.104 | M54: 0.45 | N54: 0.05
A55: 32 | B55: Матюшівське | C55: 78 | D55: 160.1 | E55: 1.28 | F55: =D55 -> 160.1 | G55: 159.68 | H55: =(D55-G55)*10000*C55/1000000 -> 0.3276 | I55: =E55-H55 -> 0.9524 | J55: 0.03 | K55: =J55 -> 0.03 | L55: =I55*100/E55 -> 74.40625 | M55: 0.5 | N55: 0.03
B56: разом | C56: =SUM(C46:C55) -> 1200.5 | E56: =SUM(E46:E55) -> 15.4 | H56: =SUM(H46:H55) -> 2.768 | I56: =SUM(I46:I55) -> 12.632 | L56: =I56*100/E56 -> 82.025974
B57: р.Кам'янка
A58: 33 | B58: Василівське | C58: 73.43 | D58: 217.9 | E58: 1.12 | F58: =D58 -> 217.9 | G58: 217.7 | H58: 0.15 | I58: =E58-H58 -> 0.97 | J58: 0.06 | K58: =J58 -> 0.06 | L58: =I58*100/E58 -> 86.607143 | M58: 0.01 | N58: 0
A59: 34 | B59: Парипсівське | C59: 158 | D59: 211.5 | E59: 1.02 | F59: =D59 -> 211.5 | G59: 211.3 | H59: 0.2 | I59: =E59-H59 -> 0.82 | J59: 0.08 | K59: =J59 -> 0.08 | L59: =I59*100/E59 -> 80.392157 | M59: 0.1 | N59: 0
C60: Проектні дані | F60: Фактичні дані | L60: Наповнення% | M60: Розрахункові екологічні витрати, м³/с | N60: Відхилення факт . рівня +/- відносно
B61: Водосховища | C61: Площа | D61: НПР, | E61: Повний обєм млн м3 | F61: Встанов- | G61: Факт. | H61: Вільна | I61: Об'єм | J61: При- | K61: Скид м³/с
F62: лений | G62: рівень | H62: ємкість | J62: плив
F63: рівень,
C64: га | D64: м | F64: м | G64: м | H64: млн.м³ | I64: млн.м³ | J64: м³/с | N64: =N13 -> 46308
A65: 1 | B65: 2 | C65: 3 | D65: 4 | E65: 5 | F65: 6 | G65: 7 | H65: 8 | I65: 9 | J65: 10 | K65: 11 | L65: 12 | M65: 13
A66: 35 | B66: Почуйківське | C66: 156.4 | D66: 189.2 | E66: 1.58 | F66: =D66 -> 189.2 | G66: 188.96 | H66: 0.2 | I66: =E66-H66 -> 1.38 | J66: 0.09 | K66: =J66 -> 0.09 | L66: =I66*100/E66 -> 87.341772 | M66: 0.06 | N66: 0
A67: 36 | B67: Ставищенське | C67: 109.5 | D67: 184.5 | E67: 1.45 | F67: =D67 -> 184.5 | G67: 184.3 | H67: 0.31 | I67: =E67-H67 -> 1.14 | J67: 0.08 | K67: =J67 -> 0.08 | L67: =I67*100/E67 -> 78.62069 | M67: 0.07 | N67: 0
A68: 37 | B68: Кожанське | C68: 105 | D68: 182.6 | E68: 1.7 | F68: =D68 -> 182.6 | G68: х | H68: х | I68: х | J68: х | K68: х | L68: х | M68: 0.08
A69: 38 | B69: Ковалівське | C69: 124.8 | D69: 97.97 | E69: 2.5 | F69: =D69 -> 97.97 | G69: 97.97 | H69: =(D69-G69)*10000*C69/1000000 -> 0 | I69: =E69-H69 -> 2.5 | J69: 0.15 | K69: =J69 -> 0.15 | L69: =I69*100/E69 -> 100 | M69: 0.15 | N69: 0.01
B70: разом | C70: =C58+C59+C66+C67+C68+C69 -> 727.13 | E70: =E69+E67+E66+E59+E58+E68 -> 9.37 | H70: =H69+H67+H66+H59+H58 -> 0.86 | I70: =I69+I67+I66+I59+I58 -> 6.81 | L70: =I70*100/E70 -> 72.678762
B71: р.Протока
A72: 39 | B72: Ксаверівське | C72: 78 | D72: 174.5 | G72: 173.74 | H72: 0.59 | I72: =E72-H72 -> -0.59 | J72: 0 | K72: 0 | L72: =I72/E72*100 -> #DIV/0! | M72: 0.02
A73: 40 | B73: Саливінківське | C73: 220 | D73: 168.8 | E73: 4.8 | F73: =D73 -> 168.8 | G73: 168.5 | H73: =(D73-G73)*10000*C73/1000000 -> 0.66 | I73: =E73-H73 -> 4.14 | J73: 0 | K73: =J73 -> 0 | L73: =I73*100/E73 -> 86.25 | M73: 0.07 | N73: 0
B74: разом | C74: =SUM(C72:C73) -> 298 | E74: =SUM(E73:E73) -> 4.8 | H74: =SUM(H73:H73) -> 0.66 | I74: =SUM(I73:I73) -> 4.14 | L74: =I74*100/E74 -> 86.25
B75: р.Узин
A76: 41 | B76: Блощинецьке | C76: 54.1 | D76: 152.5 | E76: 1.42 | F76: =D76 -> 152.5 | G76: 149.63 | H76: 1.4 | I76: =E76-H76 -> 0.02 | J76: 0 | K76: =J76 -> 0 | L76: =I76*100/E76 -> 1.4084507 | M76: 0.05 | N76: 0
B77: р.Жигалка
A78: 42 | B78: Северинівське | C78: 59.6 | D78: 159.87 | E78: 1.19 | F78: =D78 -> 159.87 | G78: 158.37 | H78: =(D78-G78)*10000*C78/1000000 -> 0.894 | I78: =E78-H78 -> 0.296 | J78: 0.02 | K78: =J78 -> 0.02 | L78: =I78*100/E78 -> 24.87395 | M78: 0.01 | N78: 0
B79: р.Росавка
B80: Разом по басейну | C80: =C26+C34+C39+C44+C56+C70+C74+C76+C78 -> 6101.044 | E80: =E26+E34+E39+E44+E56+E70+E74+E76+E78 -> 109.368 | H80: =H26+H34+H39+H44+H56+H70+H74+H76+H78 -> 20.383734 | I80: =I26+I34+I39+I44+I56+I70+I74+I76+I78 -> 87.284266 | L80: =I80*100/E80 -> 79.807865
B81: Басейн Південний Буг р. Гнилий Тікич
A82: 1 | B82: Брилівське | C82: 116.98 | D82: 176.4 | E82: 2.36 | F82: =D82 -> 176.4 | G82: 175.35 | H82: =(D82-G82)*10000*C82/1000000 -> 1.22829 | I82: =E82-H82 -> 1.13171 | J82: 0.02 | K82: =J82 -> 0.02 | L82: =I82*100/E82 -> 47.953814 | N82: 0 | O82: не оновл
A83: 2 | B83: Веселокутське | C83: 339 | D83: 169.5 | E83: 4.06 | F83: =D83 -> 169.5 | G83: 168.65 | H83: =(D83-G83)*10000*C83/1000000 -> 2.8815 | I83: =E83-H83 -> 1.1785 | J83: 0.3 | K83: =J83 -> 0.3 | L83: =I83*100/E83 -> 29.027094 | N83: 0.04
A84: 3 | B84: Великоберезянське | C84: 40.2 | D84: 180.1 | E84: 1 | F84: =D84 -> 180.1 | G84: 178.3 | H84: =(D84-G84)*10000*C84/1000000 -> 0.7236 | I84: =E84-H84 -> 0.2764 | J84: 0 | K84: 0 | L84: =I84*100/E84 -> 27.64 | N84: 0
E85: =SUM(E82:E84) -> 7.42 | H85: =SUM(H82:H84) -> 4.83339 | I85: =SUM(I82:I84) -> 2.58661 | L85: =I85*100/E85 -> 34.859973
B86: Ф.ПАРАМОНОВ

Sheet повна
B5: ВОДОГОСПОДАРСЬКА ОБСТАНОВКА НА ВОДОСХОВИЩАХ
B6: У БАСЕЙНІ РІЧКИ РОСЬ ПОВНА
B7: =Лист1!B8 -> станом на 20 жовтень 2026р.
C8: Проектні дані | F8: Фактичні дані | L8: Наповнення% | M8: Розрахункові екологічні витрати, м³/с | N8: Відхилення факт . рівня м +/- відносно | O8: Відхилення факт . рівня м від НПР
B9: Водосховища | C9: Площа | D9: НПР, | E9: Повний | F9: Встанов- | G9: Факт. | H9: Вільна | I9: Об'єм | J9: При- | K9: Скид м³/с
E10: об'єм, | F10: лений | G10: рівень, | H10: ємкість, | J10: плив
F11: рівень,
C12: га | D12: м | E12: млн.м³ | F12: м | G12: м | H12: млн.м³ | I12: млн.м³ | J12: м³/с | N12: =Лист1!N13 -> 46308
A13: 1 | B13: 2 | C13: 3 | D13: 4 | E13: 5 | F13: 6 | G13: 7 | H13: 8 | I13: 9 | J13: 10 | K13: 11 | L13: 12 | M13: 13 | N13: 14
B14: р.Рось
A15: 1 | B15: Косівське | C15: 315.794 | D15: 177 | E15: 8.24 | F15: =Лист1!F16 -> 175.9 | G15: =Лист1!G16 -> 176.27 | H15: =Лист1!H16 -> 2.3052962 | I15: =E15-H15 -> 5.9347038 | J15: =Лист1!J16 -> 0.35 | K15: =J15 -> 0.35 | L15: =I15*100/E15 -> 72.023104 | M15: 0.35 | N15: =Лист1!N16 -> 0.1 | O15: =G15-D15 -> -0.73
A16: 2 | B16: Володарське | C16: 120 | D16: 167.5 | E16: 3.44 | F16: =D16 -> 167.5 | G16: =Лист1!G17 -> 167.5 | H16: 0 | I16: =E16-H16 -> 3.44 | J16: =Лист1!J17 -> 0.83 | K16: =J16 -> 0.83 | L16: =I16*100/E16 -> 100 | M16: 0.8 | N16: =Лист1!N17 -> 0.03 | O16: =G16-D16 -> 0
A17: 3 | B17: Щербаківське | C17: 220 | D17: 164 | E17: 1.5 | F17: =D17 -> 164 | G17: =Лист1!G18 -> 163.82 | H17: =Лист1!H18 -> 0.396 | I17: =E17-H17 -> 1.104 | J17: =Лист1!J18 -> 1 | K17: =J17 -> 1 | L17: =I17*100/E17 -> 73.6 | M17: 0.95 | N17: =Лист1!N18 -> 0.02 | O17: =G17-D17 -> -0.18
A18: 4 | B18: Верхнє білоцерківське | C18: 538.42 | D18: 157.5 | E18: 16.96 | F18: =D18 -> 157.5 | G18: =Лист1!G19 -> 157.11 | H18: =Лист1!H19 -> 2.099838 | I18: =E18-H18 -> 14.860162 | J18: =Лист1!J19 -> 1.5 | K18: =J18 -> 1.5 | L18: =I18*100/E18 -> 87.61888 | M18: 1.5 | N18: =Лист1!N19 -> 0.04 | O18: =G18-D18 -> -0.39
A19: 5 | B19: Білоцерківське середнє | C19: 165 | D19: 144.4 | E19: 2.42 | F19: =D19 -> 144.4 | G19: =Лист1!G20 -> 144.4 | H19: =Лист1!H20 -> 0 | I19: =E19-H19 -> 2.42 | J19: =Лист1!J20 -> 1.5 | K19: =J19 -> 1.5 | L19: =I19*100/E19 -> 100 | M19: 1.7 | N19: =Лист1!N20 -> 0.04 | O19: =G19-D19 -> 0
A20: 6 | B20: Білоцерківське нижнє | C20: 71 | D20: 142.75 | E20: 1.56 | F20: =D20 -> 142.75 | G20: =Лист1!G21 -> 142.75 | H20: =Лист1!H21 -> 0 | I20: =E20-H20 -> 1.56 | J20: =Лист1!J21 -> 1.5 | K20: =J20 -> 1.5 | L20: =I20*100/E20 -> 100 | M20: 1.8 | N20: =Лист1!N21 -> 0.02 | O20: =G20-D20 -> 0
A21: 7 | B21: Дибинецьке | C21: 327 | D21: 131.6 | E21: 3.27 | F21: =Лист1!F22 -> 130.7 | G21: =Лист1!G22 -> 131.45 | H21: =Лист1!H22 -> 0.4905 | I21: =E21-H21 -> 2.7795 | J21: =Лист1!J22 -> 3.03 | K21: =J21 -> 3.03 | L21: =I21*100/E21 -> 85 | M21: 2.25 | N21: =Лист1!N22 -> -0.05 | O21: =G21-D21 -> -0.15
A22: 8 | B22: Богуславське | C22: 70 | D22: 127.4 | E22: 1.75 | F22: =D22 -> 127.4 | G22: =Лист1!G23 -> 127.3 | H22: =Лист1!H23 -> 0.07 | I22: =E22-H22 -> 1.68 | J22: =Лист1!J23 -> 2.73 | K22: =J22 -> 2.73 | L22: =I22*100/E22 -> 96 | M22: 2.3 | N22: =Лист1!N23 -> 0 | O22: =G22-D22 -> -0.1
A23: 9 | B23: Стеблівське | C23: 638 | D23: 113.9 | E23: 15.7 | F23: =Лист1!F24 -> 113 | G23: =Лист1!G24 -> 113.28 | H23: =Лист1!H24 -> 3.9556 | I23: =E23-H23 -> 11.7444 | J23: =Лист1!J24 -> 2 | K23: =J23 -> 2 | L23: =I23*100/E23 -> 74.805096 | M23: 2.45 | N23: =Лист1!N24 -> 0.22 | O23: =G23-D23 -> -0.62
A24: 10 | B24: Корсунь-Шевченківське | C24: 170 | D24: 99.81 | E24: 3.75 | F24: =D24 -> 99.81 | G24: =Лист1!G25 -> 99.63 | H24: =Лист1!H25 -> 0.306 | I24: =E24-H24 -> 3.444 | J24: =Лист1!J25 -> 1.9 | K24: =J24 -> 1.9 | L24: =I24*100/E24 -> 91.84 | M24: 2.5 | N24: =Лист1!N25 -> -0.06 | O24: =G24-D24 -> -0.18
B25: разом | C25: =SUM(C15:C24) -> 2635.214 | E25: =SUM(E15:E24) -> 58.59 | H25: =SUM(H15:H24) -> 9.6232342 | I25: =SUM(I15:I24) -> 48.966766 | L25: =I25*100/E25 -> 83.575296 | O25: =I25+H25-E25 -> 0 | AG25: =I25+H25-E25 -> 0
B26: р.Роська
A27: 11 | B27: Новоживотівське | C27: 137 | D27: 192.9 | E27: 1.404 | F27: =D27 -> 192.9 | G27: =Лист1!G28 -> 191.7 | H27: =Лист1!H28 -> 1.338 | I27: =E27-H27 -> 0.066 | J27: =Лист1!J28 -> 0.15 | K27: =J27 -> 0.15 | L27: =I27*100/E27 -> 4.7008547 | M27: 0.15 | N27: =Лист1!N28 -> -0.2 | O27: =G27-D27 -> -1.2
A28: 12 | B28: Осичнянське | C28: 88 | D28: 203 | E28: 1.3 | F28: =D28 -> 203 | G28: =Лист1!G29 -> 202.6 | H28: =Лист1!H29 -> 0.25 | I28: =E28-H28 -> 1.05 | J28: =Лист1!J29 -> 0.01 | K28: =J28 -> 0.01 | L28: =I28*100/E28 -> 80.769231 | M28: 0.02 | N28: =Лист1!N29 -> 0 | O28: =G28-D28 -> -0.4
A29: 13 | B29: Тетіївське №1 | C29: 234 | D29: 182.5 | E29: 3.93 | F29: =D29 -> 182.5 | G29: =Лист1!G30 -> 182.52 | H29: =Лист1!H30 -> -0.0468 | I29: =E29-H29 -> 3.9768 | J29: =Лист1!J30 -> 0.15 | K29: =J29 -> 0.15 | L29: =I29*100/E29 -> 101.19084 | M29: 0.21 | N29: =Лист1!N30 -> 0.01 | O29: =G29-D29 -> 0.02
A30: 14 | B30: Тетіївське №2 | C30: 65 | D30: 192.5 | E30: 1.07 | F30: =D30 -> 192.5 | G30: =Лист1!G31 -> 190.2 | H30: =Лист1!H31 -> 1.495 | I30: =E30-H30 -> -0.425 | J30: =Лист1!J31 -> 0.04 | K30: =J30 -> 0.04 | L30: =I30*100/E30 -> -39.719626 | M30: 0.01 | N30: =Лист1!N31 -> -1.8 | O30: =G30-D30 -> -2.3
A31: 15 | B31: Тетіївське №3 | C31: 97 | D31: 179.1 | E31: 1.75 | F31: =D31 -> 179.1 | G31: =Лист1!G32 -> 179.18 | H31: 0 | I31: =E31-H31 -> 1.75 | J31: =Лист1!J32 -> 0.26 | K31: =J31 -> 0.26 | L31: =I31*100/E31 -> 100 | M31: 0.22 | N31: =Лист1!N32 -> 0.03 | O31: =G31-D31 -> 0.08
A32: 16 | B32: Скибинецьке | C32: 95 | D32: 174.03 | E32: 1.03 | F32: =D32 -> 174.03 | G32: =Лист1!G33 -> 174.13 | H32: 0 | I32: =E32-H32 -> 1.03 | J32: =Лист1!J33 -> 0.27 | K32: =J32 -> 0.27 | L32: =I32*100/E32 -> 100 | M32: 0.26 | N32: =Лист1!N33 -> 0.05 | O32: =G32-D32 -> 0.1
B33: разом | C33: =SUM(C27:C32) -> 716 | E33: =E27+E28+E29+E30+E31+E32 -> 10.484 | H33: =H27+H28+H29+H30+H31+H32 -> 3.0362 | I33: =I27+I28+I29+I30+I31+I32 -> 7.4478 | L33: =I33*100/E33 -> 71.03968 | O33: =I33+H33-E33 -> 0 | AG33: =I33+H33-E33 -> 0
B34: р.Молочна
A35: 17 | B35: П'ятигірське | C35: 57 | D35: 189.5 | E35: 1.19 | F35: =D35 -> 189.5 | G35: =Лист1!G36 -> 189.52 | H35: =Лист1!H36 -> -0.0114 | I35: =E35-H35 -> 1.2014 | J35: =Лист1!J36 -> 0.05 | K35: =J35 -> 0.05 | L35: =I35*100/E35 -> 100.95798 | M35: 0.05 | N35: =Лист1!N36 -> 0.02 | O35: =G35-D35 -> 0.02
A36: 18 | B36: Галайківське | C36: 104 | D36: 185.5 | E36: 1.83 | F36: =D36 -> 185.5 | G36: =Лист1!G37 -> 185.53 | H36: =Лист1!H37 -> -0.0312 | I36: =E36-H36 -> 1.8612 | J36: =Лист1!J37 -> 0.06 | K36: =J36 -> 0.06 | L36: =I36*100/E36 -> 101.70492 | M36: 0.06 | N36: =Лист1!N37 -> 0.03 | O36: =G36-D36 -> 0.03
A37: 19 | B37: Лобачівське | C37: 64 | D37: 180.6 | E37: 1.02 | F37: =D37 -> 180.6 | G37: =Лист1!G38 -> 180.55 | H37: =Лист1!H38 -> 0.032 | I37: =E37-H37 -> 0.988 | J37: =Лист1!J38 -> 0.04 | K37: =J37 -> 0.04 | L37: =I37*100/E37 -> 96.862745 | M37: 0.06 | N37: =Лист1!N38 -> 0.03 | O37: =G37-D37 -> -0.05
B38: разом | C38: =SUM(C35:C37) -> 225 | E38: =SUM(E35:E37) -> 4.04 | H38: =SUM(H35:H37) -> -0.0106 | I38: =SUM(I35:I37) -> 4.0506 | L38: =I38*100/E38 -> 100.26238 | O38: =I38+H38-E38 -> 0 | AG38: =I38+H38-E38 -> 0
B39: р.Сквирка
A40: 20 | B40: Кам'яногребельське | C40: 66.7 | D40: 182.5 | E40: 1.08 | F40: =D40 -> 182.5 | G40: =Лист1!G41 -> 182 | H40: =Лист1!H41 -> 0.3335 | I40: =E40-H40 -> 0.7465 | J40: =Лист1!J41 -> 0.1 | K40: =J40 -> 0.1 | L40: =I40*100/E40 -> 69.12037 | M40: 0.04 | N40: =Лист1!N41 -> -0.1 | O40: =G40-D40 -> -0.5
A41: 21 | B41: Пустоварівське верхнє | C41: 62.8 | D41: 177 | E41: 1.41 | F41: =D41 -> 177 | G41: =Лист1!G42 -> 176 | H41: =Лист1!H42 -> 0.628 | I41: =E41-H41 -> 0.782 | J41: =Лист1!J42 -> 0.1 | K41: =J41 -> 0.1 | L41: =I41*100/E41 -> 55.460993 | M41: 0.05 | N41: =Лист1!N42 -> -0.1 | O41: =G41-D41 -> -1
A42: 22 | B42: Пустоварівське нижнє | C42: 56 | D42: 175.25 | E42: 1.17 | F42: =D42 -> 175.25 | G42: =Лист1!G43 -> 174.6 | H42: =Лист1!H43 -> 0.364 | I42: =E42-H42 -> 0.806 | J42: =Лист1!J43 -> 0.2 | K42: =J42 -> 0.2 | L42: =I42*100/E42 -> 68.888889 | M42: 0.06 | N42: =Лист1!N43 -> 0 | O42: =G42-D42 -> -0.65
B43: разом | C43: =SUM(C40:C42) -> 185.5 | E43: =SUM(E40:E42) -> 3.66 | H43: =SUM(H40:H42) -> 1.3255 | I43: =SUM(I40:I42) -> 2.3345 | L43: =I43*100/E43 -> 63.784153 | AG43: =I43+H43-E43 -> 0
B44: р.Роставиця
A45: 23 | B45: Ружинське | C45: 184 | D45: 212.5 | E45: 2.47 | F45: =D45 -> 212.5 | G45: =Лист1!G46 -> 212.4 | H45: =Лист1!H46 -> 0.15 | I45: =E45-H45 -> 2.32 | J45: =Лист1!J46 -> 0.15 | K45: =J45 -> 0.15 | L45: =I45*100/E45 -> 93.927126 | M45: 0.1 | N45: =Лист1!N46 -> 0 | O45: =G45-D45 -> -0.1
A46: 24 | B46: Карабчієвське | C46: 53 | D46: 195.5 | E46: 0.61 | F46: =D46 -> 195.5 | G46: =Лист1!G47 -> 193.8 | H46: =Лист1!H47 -> 0.45 | I46: =E46-H46 -> 0.16 | J46: =Лист1!J47 -> 0.15 | K46: =J46 -> 0.15 | L46: =I46*100/E46 -> 26.229508 | M46: 0.15 | N46: =Лист1!N47 -> 0 | O46: =G46-D46 -> -1.7
A47: 25 | B47: Трубіївське | C47: 159 | D47: 191.7 | E47: 1.74 | F47: =D47 -> 191.7 | G47: =Лист1!G48 -> 189.85 | H47: =Лист1!H48 -> 1.14 | I47: =E47-H47 -> 0.6 | J47: =Лист1!J48 -> 0.15 | K47: =J47 -> 0.15 | L47: =I47*100/E47 -> 34.482759 | M47: 0.15 | N47: =Лист1!N48 -> -0.35 | O47: =G47-D47 -> -1.85
A48: 26 | B48: Паволочське | C48: 353 | D48: 189.5 | E48: 1.93 | F48: =D48 -> 189.5 | G48: =Лист1!G49 -> 189.45 | H48: =Лист1!H49 -> 0.1 | I48: =E48-H48 -> 1.83 | J48: =Лист1!J49 -> 0.25 | K48: =J48 -> 0.25 | L48: =I48*100/E48 -> 94.818653 | M48: 0.2 | N48: =Лист1!N49 -> 0 | O48: =G48-D48 -> -0.05
A49: 27 | B49: Голуб'ятинське | C49: 55.5 | D49: 186 | E49: 1.07 | F49: =D49 -> 186 | G49: =Лист1!G50 -> 185.8 | H49: =Лист1!H50 -> 0.08 | I49: =E49-H49 -> 0.99 | J49: =Лист1!J50 -> 0.3 | K49: =J49 -> 0.3 | L49: =I49*100/E49 -> 92.523364 | M49: 0.25 | N49: =Лист1!N50 -> -0.1 | O49: =G49-D49 -> -0.2
A50: 28 | B50: Строківське | C50: 90 | D50: 182.4 | E50: 1.47 | F50: =D50 -> 182.4 | G50: =Лист1!G51 -> 182.26 | H50: =Лист1!H51 -> 0.16 | I50: =E50-H50 -> 1.31 | J50: =Лист1!J51 -> 0.3 | K50: =J50 -> 0.3 | L50: =I50*100/E50 -> 89.115646 | M50: 0.3 | N50: =Лист1!N51 -> 0 | O50: =G50-D50 -> -0.14
A51: 29 | B51: Чубинське | C51: 58 | D51: 173 | E51: 1.13 | F51: =D51 -> 173 | G51: =Лист1!G52 -> 173 | H51: =Лист1!H52 -> 0 | I51: =E51-H51 -> 1.13 | J51: =Лист1!J52 -> 0.01 | K51: =J51 -> 0.01 | L51: =I51*100/E51 -> 100 | M51: 0.35 | N51: =Лист1!N52 -> 0.02 | O51: =G51-D51 -> 0
A52: 30 | B52: Дулицьке | C52: 68 | D52: 169 | E52: 1.2 | F52: =D52 -> 169 | G52: =Лист1!G53 -> 168.65 | H52: =Лист1!H53 -> 0.238 | I52: =E52-H52 -> 0.962 | J52: =Лист1!J53 -> 0.01 | K52: =J52 -> 0.01 | L52: =I52*100/E52 -> 80.166667 | M52: 0.4 | N52: =Лист1!N53 -> 0.35 | O52: =G52-D52 -> -0.35
A53: 31 | B53: Шамраївське | C53: 102 | D53: 163 | E53: 2.5 | F53: =D53 -> 163 | G53: =Лист1!G54 -> 162.88 | H53: =Лист1!H54 -> 0.1224 | I53: =E53-H53 -> 2.3776 | J53: =Лист1!J54 -> 0.01 | K53: =J53 -> 0.01 | L53: =I53*100/E53 -> 95.104 | M53: 0.45 | N53: =Лист1!N54 -> 0.05 | O53: =G53-D53 -> -0.12
A54: 32 | B54: Матюшівське | C54: 78 | D54: 160.1 | E54: 1.28 | F54: =D54 -> 160.1 | G54: =Лист1!G55 -> 159.68 | H54: =Лист1!H55 -> 0.3276 | I54: =E54-H54 -> 0.9524 | J54: =Лист1!J55 -> 0.03 | K54: =J54 -> 0.03 | L54: =I54*100/E54 -> 74.40625 | M54: 0.5 | N54: =Лист1!N55 -> 0.03 | O54: =G54-D54 -> -0.42
B55: разом | C55: =SUM(C45:C54) -> 1200.5 | E55: =E45+E46+E47+E48+E49+E50+E51+E52+E53+E54 -> 15.4 | H55: =H45+H46+H47+H48+H49+H50+H51+H52+H53+H54 -> 2.768 | I55: =I45+I46+I47+I48+I49+I50+I51+I52+I53+I54 -> 12.632 | L55: =I55*100/E55 -> 82.025974 | O55: =I55+H55-E55 -> 0 | AG55: =I55+H55-E55 -> 0
B56: р.Кам'янка
A57: 33 | B57: Василівське | C57: 73.43 | D57: 217.9 | E57: 1.12 | F57: =D57 -> 217.9 | G57: =Лист1!G58 -> 217.7 | H57: =Лист1!H58 -> 0.15 | I57: =E57-H57 -> 0.97 | J57: =Лист1!J58 -> 0.06 | K57: =J57 -> 0.06 | L57: =I57*100/E57 -> 86.607143 | M57: 0.01 | N57: =Лист1!N58 -> 0 | O57: ррпп
C58: Проектні дані | F58: Фактичні дані | L58: Наповнення% | M58: Розрахункові екологічні витрати, м³/с | N58: Відхилення факт . рівня +/- м відносно
B59: Водосховища | C59: Площа | D59: НПР, | E59: Повний | F59: Встанов- | G59: Факт. | H59: Вільна | I59: Об'єм | J59: При- | K59: Скид м³/с
E60: об'єм, | F60: лений | G60: рівень, | H60: ємкість, | J60: плив
F61: рівень,
C62: га | D62: м | E62: млн.м³ | F62: м | G62: м | H62: млн.м³ | I62: млн.м³ | J62: м³/с | N62: =N12 -> 46308
A63: 1 | B63: 2 | C63: 3 | D63: 4 | E63: 5 | F63: 6 | G63: 7 | H63: 8 | I63: 9 | J63: 10 | K63: 11 | L63: 12 | M63: 13
A64: 34 | B64: Парипсівське | C64: 158 | D64: 211.5 | E64: 1.02 | F64: =D64 -> 211.5 | G64: =Лист1!G59 -> 211.3 | H64: =Лист1!H59 -> 0.2 | I64: =E64-H64 -> 0.82 | J64: =Лист1!J59 -> 0.08 | K64: =J64 -> 0.08 | L64: =I64*100/E64 -> 80.392157 | M64: 0.04 | N64: =Лист1!N65 -> 0 | O64: =G64-D64 -> -0.2
A65: 35 | B65: Почуйківське | C65: 156.4 | D65: 189.2 | E65: 1.58 | F65: =D65 -> 189.2 | G65: =Лист1!G66 -> 188.96 | H65: =Лист1!H66 -> 0.2 | I65: =E65-H65 -> 1.38 | J65: =Лист1!J66 -> 0.09 | K65: =J65 -> 0.09 | L65: =I65*100/E65 -> 87.341772 | M65: 0.06 | N65: =Лист1!N66 -> 0 | O65: =G65-D65 -> -0.24
A66: 36 | B66: Ставищенське | C66: 109.5 | D66: 184.5 | E66: 1.45 | F66: =D66 -> 184.5 | G66: =Лист1!G67 -> 184.3 | H66: =Лист1!H67 -> 0.31 | I66: =E66-H66 -> 1.14 | J66: =Лист1!J67 -> 0.08 | K66: =J66 -> 0.08 | L66: =I66*100/E66 -> 78.62069 | M66: 0.07 | N66: =Лист1!N67 -> 0 | O66: =G66-D66 -> -0.2
A67: 37 | B67: Кожанське | C67: 105 | D67: 182.6 | E67: 1.7 | F67: =D67 -> 182.6 | G67: х | H67: х | I67: х | J67: х | K67: х | L67: х | M67: 0.08 | N67: =Лист1!N68 -> 0
A68: 38 | B68: Ковалівське | C68: 124.8 | D68: 97.97 | E68: 2.5 | F68: =D68 -> 97.97 | G68: =Лист1!G69 -> 97.97 | H68: =Лист1!H69 -> 0 | I68: =E68-H68 -> 2.5 | J68: =Лист1!J69 -> 0.15 | K68: =J68 -> 0.15 | L68: =I68*100/E68 -> 100 | M68: 0.15 | N68: =Лист1!N69 -> 0.01 | O68: =G68-D68 -> 0
B69: разом | C69: =C57+C64+C65+C66+C67+C68 -> 727.13 | E69: =E57+E64+E65+E66+E68 -> 7.67 | H69: =H57+H64+H65+H66+H68 -> 0.86 | I69: =I57+I64+I65+I66+I68 -> 6.81 | L69: =I69*100/E69 -> 88.787484 | O69: =I69+H69-E69 -> 0
B70: р.Протока
A71: 39 | B71: Ксаверівське | C71: 78 | D71: 174.5 | E71: 1.1 | F71: =D71 -> 174.5 | G71: 174 | H71: 0.39 | I71: =E71-H71 -> 0.71 | J71: 0 | K71: =J71 -> 0 | L71: 76 | M71: 0.02 | N71: =Лист1!N72 -> 0 | O71: =G71-D71 -> -0.5
A72: 40 | B72: Саливінківське | C72: 220 | D72: 168.8 | E72: 4.8 | F72: =D72 -> 168.8 | G72: =Лист1!G73 -> 168.5 | H72: =Лист1!H73 -> 0.66 | I72: =E72-H72 -> 4.14 | J72: =Лист1!J73 -> 0 | K72: =J72 -> 0 | L72: =I72*100/E72 -> 86.25 | M72: 0.07 | N72: =Лист1!N73 -> 0 | O72: =G72-D72 -> -0.3
B73: разом | C73: =SUM(C71:C72) -> 298 | E73: =SUM(E71:E72) -> 5.9 | H73: =SUM(H71:H72) -> 1.05 | I73: =SUM(I71:I72) -> 4.85 | L73: =I73*100/E73 -> 82.20339 | O73: =I73+H73-E73 -> 0 | AG73: =I73+H73-E73 -> 0
B74: р.Узин
A75: 41 | B75: Блощинецьке | C75: 54.1 | D75: 152.5 | E75: 1.42 | F75: =D75 -> 152.5 | G75: =Лист1!G76 -> 149.63 | H75: =Лист1!H76 -> 1.4 | I75: =E75-H75 -> 0.02 | J75: =Лист1!J76 -> 0 | K75: =J75 -> 0 | L75: =I75*100/E75 -> 1.4084507 | M75: 0.05 | N75: =Лист1!N76 -> 0 | O75: =G75-D75 -> -2.87 | AG75: =I75+H75-E75 -> 0
B76: р.Жигалка
A77: 42 | B77: Северинівське | C77: 59.6 | D77: =Лист1!D78 -> 159.87 | E77: 1.19 | F77: =D77 -> 159.87 | G77: =Лист1!G78 -> 158.37 | H77: =Лист1!H78 -> 0.894 | I77: =E77-H77 -> 0.296 | J77: =Лист1!J78 -> 0.02 | K77: =J77 -> 0.02 | L77: =I77*100/E77 -> 24.87395 | M77: 0.01 | N77: 0.1 | O77: =G77-D77 -> -1.5 | AG77: =I77+H77-E77 -> 0
B78: р.Росава
A79: 43 | B79: Маслівське | C79: 175 | D79: 97.2 | E79: 1.66 | F79: =D79 -> 97.2 | G79: 97.22 | H79: 0 | I79: 1.66 | J79: 0 | K79: =J79 -> 0 | L79: 100 | M79: 0 | N79: 0.22 | O79: =G79-D79 -> 0.02 | AG79: =I79+H79-E79 -> 0
B80: р.Росавка
A81: 44 | B81: Карапишівське | C81: 135 | D81: 139.2 | E81: 2.16 | F81: =D81 -> 139.2 | G81: 139.21 | H81: 0 | I81: =E81-H81 -> 2.16 | J81: 0 | K81: =J81 -> 0 | L81: 100 | M81: 0 | N81: 0.25 | O81: =G81-D81 -> 0.01 | AG81: =I81+H81-E81 -> 0
B82: р.Потік
B83: Разом по басейну | C83: =C25+C33+C38+C43+C55+C69+C73+C75+C77+C79+C81 -> 6411.044 | E83: =E25+E33+E38+E43+E55+E69+E73+E75+E77+E81+E79 -> 112.174 | H83: =H25+H33+H38+H43+H55+H69+H71+H72+H75+H77+H81+H79 -> 20.946334 | I83: =I25+I33+I38+I43+I55+I69+I75+I77+I81+I79+I73 -> 91.227666 | L83: =I83*100/E83 -> 81.326926 | O83: =I83+H83-E83 -> 0 | AG83: =I83+H83-E83 -> 0 | AH83: =I83+H83-E83 -> 0
B84: Басейн Південний Буг р. Гнилий Тікич
A85: 1 | B85: Брилівське | C85: 116.98 | D85: 176.4 | E85: 2.36 | F85: =D85 -> 176.4 | G85: =Лист1!G82 -> 175.35 | H85: =(D85-G85)*10000*C85/1000000 -> 1.22829 | I85: =E85-H85 -> 1.13171 | J85: =Лист1!J82 -> 0.02 | K85: =J85 -> 0.02 | L85: =I85*100/E85 -> 47.953814 | N85: =Лист1!N82 -> 0 | O85: =G85-D85 -> -1.05
A86: 2 | B86: Веселокутське | C86: 339 | D86: 169.5 | E86: 4.06 | F86: =D86 -> 169.5 | G86: =Лист1!G83 -> 168.65 | H86: =Лист1!H83 -> 2.8815 | I86: =E86-H86 -> 1.1785 | J86: =Лист1!J83 -> 0.3 | K86: =J86 -> 0.3 | L86: =I86*100/E86 -> 29.027094 | N86: =Лист1!N83 -> 0.04 | O86: =G86-D86 -> -0.85
A87: 3 | B87: Великоберезянське | C87: 40.2 | D87: 180.1 | E87: 1 | F87: =D87 -> 180.1 | G87: =Лист1!G84 -> 178.3 | H87: =(D87-G87)*10000*C87/1000000 -> 0.7236 | I87: =E87-H87 -> 0.2764 | J87: =Лист1!J84 -> 0 | K87: 0 | L87: =I87*100/E87 -> 27.64 | N87: 0 | O87: =G87-D87 -> -1.8
C88: =SUM(C85:C87) -> 496.18 | E88: =SUM(E85:E87) -> 7.42 | H88: =SUM(H85:H87) -> 4.83339 | I88: =SUM(I85:I87) -> 2.58661 | L88: =I88*100/E88 -> 34.859973 | AG88: =I88+H88-E88 -> 0
B89: В. ЛЯСКОВСЬКА
AH92: =I83 -> 91.227666

Sheet Лист2
